BEGIN:VCALENDAR
VERSION:2.0
PRODID:-//Plone.org//NONSGML plone.app.event//EN
X-WR-TIMEZONE:America/Sao_Paulo
BEGIN:VEVENT
SUMMARY:II Encontro Comemorativo do Dia do Atuário em []
DTSTART;TZID=America/Sao_Paulo;VALUE=DATE-TIME:20200403T070000
DTEND;TZID=America/Sao_Paulo;VALUE=DATE-TIME:20200403T180000
DTSTAMP;VALUE=DATE-TIME:20260425T010210Z
UID:f0240dcefe58485a807e99264ccbb1dc@150.164.76.86:8080
CREATED;VALUE=DATE-TIME:20200127T142622Z
DESCRIPTION:O evento é organizado pelo Colegiado de Ciências Atuariais d
 o Departamento de Estatística da UFMG.\n\nEm resumo\, o evento consiste e
 m palestras e minicursos destinado tanto aos alunos de Ciências Atuariais
  da UFMG\, bem como à toda comunidade acadêmica que possua\ninteresse ou
  tenha correlação com a Ciência Atuarial. O evento possibilita a discus
 são e fomento da Ciência Atuarial\, bem como novidades\, atualização n
 as diversas áreas\nda Ciência Atuarial\, bem como o network entre comuni
 dade acadêmica e mercado de trabalho.\n\nO evento conta com um dia replet
 o de atividades e\, para tanto\, faz-se necessária a utilização de um e
 spaço que acomode o público alvo\, que contenha\, a princípio\, os segu
 intes\nrecursos:\n\n -  microfones (pelo menos 3\, o ideal seriam a partir
  de 4\, sendo um sem fio para o momento de perguntas da platéia)\n -  pro
 jetor e computador (ou notebook) (para as apresentações em slides dos pa
 lestrantes)\n -  espaço esterno ao auditório onde seja possível realiza
 ção do coffee break\, com pelo menos uma mesa grande para disposição d
 os item do café (salgados\, café\, suco\, copos\, etc)\n\nObs.: A progra
 mação deste ano ainda não está completa\, porém\, caso sejam necessá
 rios mais detalhes\, gentileza entrar em contato para disponibilização d
 as informações\n          referentes ao evento realizado em 2019.
LAST-MODIFIED;VALUE=DATE-TIME:20230111T201110Z
URL:http://150.164.76.86:8080/cac/agenda/15374351901129519562
END:VEVENT
BEGIN:VTIMEZONE
TZID:America/Sao_Paulo
X-LIC-LOCATION:America/Sao_Paulo
BEGIN:STANDARD
DTSTART;VALUE=DATE-TIME:20200215T230000
TZNAME:BRT
TZOFFSETFROM:-0200
TZOFFSETTO:-0300
END:STANDARD
END:VTIMEZONE
END:VCALENDAR
