BEGIN:VCALENDAR
VERSION:2.0
PRODID:-//Plone.org//NONSGML plone.app.event//EN
X-WR-TIMEZONE:America/Sao_Paulo
BEGIN:VEVENT
SUMMARY:Título honorífico Doutor Honoris Causa ao professor Eugenio Raú
 l Zaffaroni em [ Outros espacos]
DTSTART;TZID=America/Sao_Paulo;VALUE=DATE-TIME:20231017T190000
DTEND;TZID=America/Sao_Paulo;VALUE=DATE-TIME:20231017T210000
DTSTAMP;VALUE=DATE-TIME:20260421T003403Z
UID:fce83d71db19473eba49459a36c30f3a@150.164.76.86:8080
CREATED;VALUE=DATE-TIME:20230921T144217Z
DESCRIPTION:<p>Título honorífico Doutor Honoris Causa ao professor Eugen
 io Raúl Zaffaroni\, Auditorium Maximus Alberto Deodato</p>
LAST-MODIFIED;VALUE=DATE-TIME:20230921T144528Z
URL:http://150.164.76.86:8080/cac/agenda/15366280333908509608
END:VEVENT
BEGIN:VTIMEZONE
TZID:America/Sao_Paulo
X-LIC-LOCATION:America/Sao_Paulo
BEGIN:DAYLIGHT
DTSTART;VALUE=DATE-TIME:20231015T010000
TZNAME:BRST
TZOFFSETFROM:-0300
TZOFFSETTO:-0200
END:DAYLIGHT
END:VTIMEZONE
END:VCALENDAR
