BEGIN:VCALENDAR
VERSION:2.0
PRODID:-//Plone.org//NONSGML plone.app.event//EN
X-WR-TIMEZONE:America/Sao_Paulo
BEGIN:VEVENT
SUMMARY:Reunião da CPSM em [ Outros espacos]
DTSTART;TZID=America/Sao_Paulo;VALUE=DATE-TIME:20220727T140000
DTEND;TZID=America/Sao_Paulo;VALUE=DATE-TIME:20220727T160000
DTSTAMP;VALUE=DATE-TIME:20260422T044654Z
UID:21841724e42c45dd97f3880ca3f48c9e@150.164.76.86:8080
CREATED;VALUE=DATE-TIME:20220719T183137Z
DESCRIPTION:<p><span>Reunião da CPSM </span></p>
LAST-MODIFIED;VALUE=DATE-TIME:20220719T183209Z
URL:http://150.164.76.86:8080/cac/agenda/1536374489756452872
END:VEVENT
BEGIN:VTIMEZONE
TZID:America/Sao_Paulo
X-LIC-LOCATION:America/Sao_Paulo
BEGIN:STANDARD
DTSTART;VALUE=DATE-TIME:20220219T230000
TZNAME:BRT
TZOFFSETFROM:-0200
TZOFFSETTO:-0300
END:STANDARD
END:VTIMEZONE
END:VCALENDAR
