BEGIN:VCALENDAR
VERSION:2.0
PRODID:-//Plone.org//NONSGML plone.app.event//EN
X-WR-TIMEZONE:America/Sao_Paulo
BEGIN:VEVENT
SUMMARY:Feriado - Natal em [ Auditorio da Reitoria Saguao da Reitoria Gram
 ado da Reitoria Arena da praça de serviços Entorno da Praca de Servicos 
 Auditorio Nobre do CAD 1 Auditorio 1A do CAD 1 Auditorio 2A do CAD 1 Audit
 orio A102 do Cad 2 Auditorio A104 do Cad 2 Auditório B101/102 do CAD 3 Au
 ditório B301 do CAD 3 Auditório B302 do CAD 3 Auditório B106 do CAD3 Au
 ditório B107 do CAD3 Outros espacos]
DTSTART;TZID=America/Sao_Paulo;VALUE=DATE-TIME:20231225T060000
DTEND;TZID=America/Sao_Paulo;VALUE=DATE-TIME:20231225T230000
DTSTAMP;VALUE=DATE-TIME:20260420T115152Z
UID:62f4d9ab189d4ec5b48eea952e5abc0c@150.164.76.86:8080
CREATED;VALUE=DATE-TIME:20221110T143007Z
DESCRIPTION:<p>Feriado</p>
LAST-MODIFIED;VALUE=DATE-TIME:20230111T201123Z
URL:http://150.164.76.86:8080/cac/agenda/15333370155274347460
END:VEVENT
BEGIN:VTIMEZONE
TZID:America/Sao_Paulo
X-LIC-LOCATION:America/Sao_Paulo
BEGIN:DAYLIGHT
DTSTART;VALUE=DATE-TIME:20231015T010000
TZNAME:BRST
TZOFFSETFROM:-0300
TZOFFSETTO:-0200
END:DAYLIGHT
END:VTIMEZONE
END:VCALENDAR
