BEGIN:VCALENDAR
VERSION:2.0
PRODID:-//Plone.org//NONSGML plone.app.event//EN
X-WR-TIMEZONE:America/Sao_Paulo
BEGIN:VEVENT
SUMMARY:XXXIV DIA DO FILHO PRÓDIGO em [ Outros espacos]
DTSTART;TZID=America/Sao_Paulo;VALUE=DATE-TIME:20230616T110000
DTEND;TZID=America/Sao_Paulo;VALUE=DATE-TIME:20230619T120000
DTSTAMP;VALUE=DATE-TIME:20260421T133043Z
UID:ad2b79f830a94d4c91bf5ffb525d7196@150.164.76.86:8080
CREATED;VALUE=DATE-TIME:20230317T190738Z
DESCRIPTION:<p>O Dia do Filho Pródigo é um evento que ocorre anualmente 
 com o objetivo de proporcionar o reencontro dos ex-alunos do COLTEC no amb
 iente do colégio onde estudaram. Este evento tornou-se uma tradição e 
 é realizado desde 1986\, reunindo ex-alunos de várias gerações e perpe
 tuando os laços de amizade adquiridos durante o curso. O COLTEC é a úni
 ca escola que possui um evento de tamanha tradição em Belo Horizonte e u
 ma das poucas do país. Esse ano será realizado no segundo sábado de jun
 ho\, 10/06/2023 das 11 às 20 h. Algumas bandas de ex-Coltecanos irão se 
 apresentar e foi solicitado\, mais uma vez\, o apoio da CAC para o forneci
 mento do sistema de som que possui: - Mesa amplificadora de alta potência
  ( o espaço é externo e teremos várias centenas de pessoas) com entrada
  para violão\, baixo\, teclado\, guitarra e bateria e com entrada para so
 m mecânico-CD\, mp3 - 2 Caixas de retorno - Seis microfones(2 para voz e 
 4 para captação dos instrumentos) - Os cabos para conexão - Caixas de s
 om – 2 de grande porte pelo menos - Extensão e filtro de linha Como em 
 todos os anos\, contaremos com o apoio dos técnicos da CAC na montagem\, 
 passagem de som\, preparação e durante a execução do evento\, devidame
 nte remunerados pela organização do evento. Requisitaremos(ou a própria
  CAC) também ao setor de transportes da UFMG a cessão de um veículo de 
 grande porte com profissionais carregadores para transportar os equipament
 os de som da CAC para o COLTEC dia 09/06/23 (um dia antes da festa)\, ou a
 ntes\, de acordo com a disponibilidade deles. Solicitamos também que os a
 parelhos sejam retirados do COLTEC e transportados para CAC dia 12/06/23 o
 u assim que possível. Estamos disponíveis para quaisquer esclarecimentos
 .</p>
LAST-MODIFIED;VALUE=DATE-TIME:20230327T140831Z
URL:http://150.164.76.86:8080/cac/agenda/15326732598269788343
END:VEVENT
BEGIN:VTIMEZONE
TZID:America/Sao_Paulo
X-LIC-LOCATION:America/Sao_Paulo
BEGIN:STANDARD
DTSTART;VALUE=DATE-TIME:20230225T230000
TZNAME:BRT
TZOFFSETFROM:-0200
TZOFFSETTO:-0300
END:STANDARD
END:VTIMEZONE
END:VCALENDAR
