BEGIN:VCALENDAR
VERSION:2.0
PRODID:-//Plone.org//NONSGML plone.app.event//EN
X-WR-TIMEZONE:America/Sao_Paulo
BEGIN:VEVENT
SUMMARY:Reunião CEPE  em [ Outros espacos]
DTSTART;TZID=America/Sao_Paulo;VALUE=DATE-TIME:20220614T140000
DTEND;TZID=America/Sao_Paulo;VALUE=DATE-TIME:20220614T150000
DTSTAMP;VALUE=DATE-TIME:20260422T064841Z
UID:f85e750b377047e091f3bea8370cbcc3@150.164.76.86:8080
CREATED;VALUE=DATE-TIME:20220606T144637Z
DESCRIPTION:<p>Técnico para operar equipamentos</p>
LAST-MODIFIED;VALUE=DATE-TIME:20220613T151016Z
URL:http://150.164.76.86:8080/cac/agenda/15310343950579393054
END:VEVENT
BEGIN:VTIMEZONE
TZID:America/Sao_Paulo
X-LIC-LOCATION:America/Sao_Paulo
BEGIN:STANDARD
DTSTART;VALUE=DATE-TIME:20220219T230000
TZNAME:BRT
TZOFFSETFROM:-0200
TZOFFSETTO:-0300
END:STANDARD
END:VTIMEZONE
END:VCALENDAR
