BEGIN:VCALENDAR
VERSION:2.0
PRODID:-//Plone.org//NONSGML plone.app.event//EN
X-WR-TIMEZONE:America/Sao_Paulo
BEGIN:VEVENT
SUMMARY:I ENEDITA: Encontro Nacional de Estudos da Deficiência\, Inclusã
 o e Tecnologia Assistiva em [ Auditorio Nobre do CAD 1]
DTSTART;TZID=America/Sao_Paulo;VALUE=DATE-TIME:20240828T080000
DTEND;TZID=America/Sao_Paulo;VALUE=DATE-TIME:20240830T180000
DTSTAMP;VALUE=DATE-TIME:20260419T222146Z
UID:2dde4c4e8e69438790e901e6b48636bf@150.164.76.86:8080
CREATED;VALUE=DATE-TIME:20240105T194108Z
DESCRIPTION:I ENEDITA: Encontro Nacional de Estudos da Deficiência\, Incl
 usão e Tecnologia Assistiva. \n\nA programação será enviada oportuname
 nte.
LAST-MODIFIED;VALUE=DATE-TIME:20240411T131326Z
URL:http://150.164.76.86:8080/cac/agenda/15303196325849945129
END:VEVENT
BEGIN:VTIMEZONE
TZID:America/Sao_Paulo
X-LIC-LOCATION:America/Sao_Paulo
BEGIN:STANDARD
DTSTART;VALUE=DATE-TIME:20240217T230000
TZNAME:BRT
TZOFFSETFROM:-0200
TZOFFSETTO:-0300
END:STANDARD
END:VTIMEZONE
END:VCALENDAR
