BEGIN:VCALENDAR
VERSION:2.0
PRODID:-//Plone.org//NONSGML plone.app.event//EN
X-WR-TIMEZONE:America/Sao_Paulo
BEGIN:VEVENT
SUMMARY:Quarta 12h30-Semana do Servidor em [ Auditorio da Reitoria]
DTSTART;TZID=America/Sao_Paulo;VALUE=DATE-TIME:20231018T113000
DTEND;TZID=America/Sao_Paulo;VALUE=DATE-TIME:20231018T140000
DTSTAMP;VALUE=DATE-TIME:20260421T003718Z
UID:cac30d544d234ceab2c1e1a984d021a9@150.164.76.86:8080
CREATED;VALUE=DATE-TIME:20230928T125338Z
DESCRIPTION:<p>Espetáculo teatral da agenda da Semana do Servidor 2023</p
 >
LAST-MODIFIED;VALUE=DATE-TIME:20230928T132301Z
URL:http://150.164.76.86:8080/cac/agenda/15298192644257739126
END:VEVENT
BEGIN:VTIMEZONE
TZID:America/Sao_Paulo
X-LIC-LOCATION:America/Sao_Paulo
BEGIN:DAYLIGHT
DTSTART;VALUE=DATE-TIME:20231015T010000
TZNAME:BRST
TZOFFSETFROM:-0300
TZOFFSETTO:-0200
END:DAYLIGHT
END:VTIMEZONE
END:VCALENDAR
