BEGIN:VCALENDAR
VERSION:2.0
PRODID:-//Plone.org//NONSGML plone.app.event//EN
X-WR-TIMEZONE:America/Sao_Paulo
BEGIN:VEVENT
SUMMARY:Solenidade de Colação de Grau oficial do IGC em [ Auditorio Nobr
 e do CAD 1]
DTSTART;TZID=America/Sao_Paulo;VALUE=DATE-TIME:20240917T080000
DTEND;TZID=America/Sao_Paulo;VALUE=DATE-TIME:20240917T120000
DTSTAMP;VALUE=DATE-TIME:20260419T205551Z
UID:73056c41ed124cf2898fe7591a3f34fd@150.164.76.86:8080
CREATED;VALUE=DATE-TIME:20240610T133524Z
DESCRIPTION:Solenidade de Colação de Grau oficial dos Cursos de Graduaç
 ão em Geografia\, Geologia e Turismo do Instituto de Geociências. \n(Pr
 é-reserva\, tendo em vista o novo calendário acadêmico)\n\nMesa de honr
 a com forro para 10 autoridades (confirmaremos esse número oportunamente)
 \n1 microfone no centro da mesa (O Diretor utiliza somente para iniciar a 
 cerimônia\, as demais falas serão do púlpito)\nPúlpito com microfone\n
 Tela de projeção\nBandeiras\n1 mesa pequena de apoio\n3 cadeiras para as
  servidoras que farão a cerimônia (a mesa e as cadeiras podem ficar na l
 ateral do auditório que pagaremos quando chegarmos)\narranjo artificial d
 e flores\nEspaço do café para que os formandos possam vestir suas becas\
 nHino Nacional e Vídeo institucional da Reitora
LAST-MODIFIED;VALUE=DATE-TIME:20240610T153244Z
URL:http://150.164.76.86:8080/cac/agenda/15297765061141552574
END:VEVENT
BEGIN:VTIMEZONE
TZID:America/Sao_Paulo
X-LIC-LOCATION:America/Sao_Paulo
BEGIN:STANDARD
DTSTART;VALUE=DATE-TIME:20240217T230000
TZNAME:BRT
TZOFFSETFROM:-0200
TZOFFSETTO:-0300
END:STANDARD
END:VTIMEZONE
END:VCALENDAR
