BEGIN:VCALENDAR
VERSION:2.0
PRODID:-//Plone.org//NONSGML plone.app.event//EN
X-WR-TIMEZONE:America/Sao_Paulo
BEGIN:VEVENT
SUMMARY:ENEARTE  - Encontro Nacional dos Estudantes de Artes em [ Auditór
 io B106 do CAD3]
DTSTART;TZID=America/Sao_Paulo;VALUE=DATE-TIME:20231016T080000
DTEND;TZID=America/Sao_Paulo;VALUE=DATE-TIME:20231021T170000
DTSTAMP;VALUE=DATE-TIME:20260421T003605Z
UID:f8f9da94374d4e269c37f93aedf46fbb@150.164.76.86:8080
CREATED;VALUE=DATE-TIME:20230828T140116Z
DESCRIPTION:<p>O Encontro Nacional dos Estudantes de Artes – o ENEARTE 
 – é um evento que está na sua 24ª edição e acontece anualmente em u
 ma diferente cidade  do Brasil. O evento reúne estudantes de escolas de 
 artes públicas e privadas de todo o país a fim de promover trocas e diá
 logos entre as mais variadas áreas de pesquisa e práticas artísticas\, 
 além de criar oportunidade para que os alunos conheçam as diferentes cid
 ades e contextos culturais que abrigam a produção e o ensino de arte nac
 ionalmente. O planejamento prevê mesas-redondas e palestras oferecidas po
 r estudantes e profissionais reconhecidos\; oficinas nas mais variadas ver
 tentes artísticas\, apresentação de grupos de trabalhos acadêmicos e d
 iscussão também oferecidas por estudantes representando os vários curso
 s de artes\, bem como apresentações artísticas e culturais abertas à c
 omunidade. O evento\, que tem duração de sete dias\, distribuirá aos pa
 rticipantes um manual completo físico com todas as atividades e seus resp
 ectivos locais ao início do evento. Também será disponibilizado na vers
 ão online. Para os estudantes que frequentarem pelo menos 70% dos grupos 
 de trabalho\, será emitido um certificado. O evento conta com o apoio das
  instituições públicas de ensino para sediar as atividades que compõem
  a programação. Por parte da UFMG\, são esperadas realização de ativi
 dades em algumas salas de aula\, laboratórios e auditórios da Escola de 
 Belas Artes\, bem como possível utilização de áreas abertas do campus 
 Pampulha. Há também expectativa de utilização da infraestrutura da Esc
 ola Guignard UEMG além de outras possibilidades e do CEFART para realiza
 ção de atividades como oficinas\, exposições e apresentações artíst
 icas. Os equipamentos necessários serão aqueles já disponíveis na infr
 aestrutura do auditório\, tais como projetor\, microfone e sistema de som
 .</p>
LAST-MODIFIED;VALUE=DATE-TIME:20231011T134511Z
URL:http://150.164.76.86:8080/cac/agenda/15297479641412459812
END:VEVENT
BEGIN:VTIMEZONE
TZID:America/Sao_Paulo
X-LIC-LOCATION:America/Sao_Paulo
BEGIN:DAYLIGHT
DTSTART;VALUE=DATE-TIME:20231015T010000
TZNAME:BRST
TZOFFSETFROM:-0300
TZOFFSETTO:-0200
END:DAYLIGHT
END:VTIMEZONE
END:VCALENDAR
