BEGIN:VCALENDAR
VERSION:2.0
PRODID:-//Plone.org//NONSGML plone.app.event//EN
X-WR-TIMEZONE:America/Sao_Paulo
BEGIN:VEVENT
SUMMARY:Feira da UFMG em [ Entorno da Praca de Servicos]
DTSTART;TZID=America/Sao_Paulo;VALUE=DATE-TIME:20231213T060000
DTEND;TZID=America/Sao_Paulo;VALUE=DATE-TIME:20231213T180000
DTSTAMP;VALUE=DATE-TIME:20260420T115022Z
UID:c7745053e9a649a0a1220e83acb0c346@150.164.76.86:8080
CREATED;VALUE=DATE-TIME:20230301T122654Z
DESCRIPTION:Não serão necessários equipamentos ou serviços adicionais.
LAST-MODIFIED;VALUE=DATE-TIME:20230301T131433Z
URL:http://150.164.76.86:8080/cac/agenda/15287113293580627011
END:VEVENT
BEGIN:VTIMEZONE
TZID:America/Sao_Paulo
X-LIC-LOCATION:America/Sao_Paulo
BEGIN:DAYLIGHT
DTSTART;VALUE=DATE-TIME:20231015T010000
TZNAME:BRST
TZOFFSETFROM:-0300
TZOFFSETTO:-0200
END:DAYLIGHT
END:VTIMEZONE
END:VCALENDAR
