BEGIN:VCALENDAR
VERSION:2.0
PRODID:-//Plone.org//NONSGML plone.app.event//EN
X-WR-TIMEZONE:America/Sao_Paulo
BEGIN:VEVENT
SUMMARY:CAPACIDADE EXCEDIDA em [ Auditorio Nobre do CAD 1 Auditorio A102 d
 o Cad 2 Auditório B302 do CAD 3 Auditório B101/102 do CAD 3 Auditório B
 301 do CAD 3]
DTSTART;TZID=America/Sao_Paulo;VALUE=DATE-TIME:20200404T000000
DTEND;TZID=America/Sao_Paulo;VALUE=DATE-TIME:20200405T230000
DTSTAMP;VALUE=DATE-TIME:20260425T010211Z
UID:8f6a642e8de2477abc17f7a4925a349e@150.164.76.86:8080
CREATED;VALUE=DATE-TIME:20200114T203610Z
DESCRIPTION:<p>A pedido da coordenadora da CAC Cássia Monteiro\, aprovado
  em reuniões dos dias 09 e 10/01/2020.<br />Atenciosamente<br />Coordenad
 oria de Assuntos Comunitários</p>
LAST-MODIFIED;VALUE=DATE-TIME:20230111T201136Z
URL:http://150.164.76.86:8080/cac/agenda/15268675847497336978
END:VEVENT
BEGIN:VTIMEZONE
TZID:America/Sao_Paulo
X-LIC-LOCATION:America/Sao_Paulo
BEGIN:STANDARD
DTSTART;VALUE=DATE-TIME:20200215T230000
TZNAME:BRT
TZOFFSETFROM:-0200
TZOFFSETTO:-0300
END:STANDARD
END:VTIMEZONE
END:VCALENDAR
