BEGIN:VCALENDAR
VERSION:2.0
PRODID:-//Plone.org//NONSGML plone.app.event//EN
X-WR-TIMEZONE:America/Sao_Paulo
BEGIN:VEVENT
SUMMARY:V Encuentro Latinoamericano de Investigadores sobre cuerpos ycorpo
 ralidades en las culturas em [ Auditorio Nobre do CAD 1]
DTSTART;TZID=America/Sao_Paulo;VALUE=DATE-TIME:20241112T080000
DTEND;TZID=America/Sao_Paulo;VALUE=DATE-TIME:20241114T210000
DTSTAMP;VALUE=DATE-TIME:20260419T180036Z
UID:ec3ac8f4645d40b4a70fb8360b377c12@150.164.76.86:8080
CREATED;VALUE=DATE-TIME:20231117T012027Z
DESCRIPTION:<p>Computador\, data show\, microfone. Con este V Encuentro no
 s proponemos discutir el papel de los cuerpos y las culturas desde premisa
 s de una brújula ética\, de inteligencias y poderes cognitivos iguales\,
  en sus múltiples voces\, deseando la construcción y consolidación de p
 rácticas democráticas\, contra coloniales y planetarias. En este context
 o\, los saberes emancipatorios de y desde los cuerpos/corporalidades nos p
 roporcionan posibilidades de imaginar otras preguntas desde los vínculos 
 entre diferentes modos de existencia\, la razón\, los sentimientos\, el d
 eseo\, las prácticas y las luchas sociales. Público: 500 pessoas de dive
 rsos países da América Latina</p>
LAST-MODIFIED;VALUE=DATE-TIME:20231120T215717Z
URL:http://150.164.76.86:8080/cac/agenda/15251525566363818375
END:VEVENT
BEGIN:VTIMEZONE
TZID:America/Sao_Paulo
X-LIC-LOCATION:America/Sao_Paulo
BEGIN:DAYLIGHT
DTSTART;VALUE=DATE-TIME:20241020T010000
TZNAME:BRST
TZOFFSETFROM:-0300
TZOFFSETTO:-0200
END:DAYLIGHT
END:VTIMEZONE
END:VCALENDAR
