BEGIN:VCALENDAR
VERSION:2.0
PRODID:-//Plone.org//NONSGML plone.app.event//EN
X-WR-TIMEZONE:America/Sao_Paulo
BEGIN:VEVENT
SUMMARY:Cerimônia de Posse da Direção Geral da Unidade Especial de Educ
 ação Básica e Profissional (EBAP) da UFMG e Posse dos Diretores/as e Vi
 ce-Diretores/as do CP\, do COLTEC e do TU - 2025-2029 em [ Auditorio Nobre
  do CAD 1 - sem copa\, saguão parcial]
DTSTART;TZID=America/Sao_Paulo;VALUE=DATE-TIME:20250529T130000
DTEND;TZID=America/Sao_Paulo;VALUE=DATE-TIME:20250529T213000
DTSTAMP;VALUE=DATE-TIME:20260419T091057Z
UID:067eb97e755343b59a290a926ff00ce2@150.164.76.86:8080
CREATED;VALUE=DATE-TIME:20250321T133050Z
DESCRIPTION:Cerimônia de Posse da Direção Geral da Unidade Especial de 
 Educação Básica e Profissional (EBAP) da UFMG \ne Posse dos Diretores/a
 s e Vice-Diretores/as do CP\, do COLTEC e do TU - gestão 2025-2029.\n\nCo
 m a Presença da Reitora da UFMG\, a Professora Sandra Regina Goulart Alme
 ida.\n\nProgramação para o auditório:\n13:30 - organização do espaço
 \n14:30 - Chegada das autoridades e convidados\n15:30 -  Composição da M
 esa de Honra - com a  Reitora\n16:00 - Início da Cerimônia de Posse do D
 iretor Geral da EBAP\n16:30 - Início da Cerimônia de Posse dos Diretores
 /as e Vice-Diretores/as do CP\, do Coltec e do TU. \n17:40 - Término das 
 Cerimônias de Posse\n18:30 - liberação do auditório Nobre do CAD1\n\nO
 utros espaços:\n18:40 - Início do Coquetel de Posse da Unidade EBAP e su
 as respectivas escolas\n21:30 - Encerramento do Coquetel\n\nMaterial neces
 sário:\n- Microfone para a Mesa de Honra\n- Microfone para o púlpito\n- 
 Toalha para a Mesa de Honra\n- Projetor e telão multimídia\n- 12 cadeira
 s na Mesa de Honra\n- Mesa de apoio no palco\n- Bandeiras
LAST-MODIFIED;VALUE=DATE-TIME:20250509T185619Z
URL:http://150.164.76.86:8080/cac/agenda/15247668095330145927
END:VEVENT
BEGIN:VTIMEZONE
TZID:America/Sao_Paulo
X-LIC-LOCATION:America/Sao_Paulo
BEGIN:STANDARD
DTSTART;VALUE=DATE-TIME:20250215T230000
TZNAME:BRT
TZOFFSETFROM:-0200
TZOFFSETTO:-0300
END:STANDARD
END:VTIMEZONE
END:VCALENDAR
