BEGIN:VCALENDAR
VERSION:2.0
PRODID:-//Plone.org//NONSGML plone.app.event//EN
X-WR-TIMEZONE:America/Sao_Paulo
BEGIN:VEVENT
SUMMARY:I CIRCUITO FORMATIVO INTERNACIONAL SANKOFA: DIÁLOGOS COM ÁFRICA 
  (RE)CONEXÕES BRASIL - ANGOLA em [ Auditorio A102 do Cad 2]
DTSTART;TZID=America/Sao_Paulo;VALUE=DATE-TIME:20240629T070000
DTEND;TZID=America/Sao_Paulo;VALUE=DATE-TIME:20240629T123000
DTSTAMP;VALUE=DATE-TIME:20260420T012902Z
UID:f510c49733364bc487a46667a7a1c474@150.164.76.86:8080
CREATED;VALUE=DATE-TIME:20240606T124608Z
DESCRIPTION:<p>Necessário apoio técnico de som (3 microfones) e exibiç
 ão de imagem (projeção).</p>
LAST-MODIFIED;VALUE=DATE-TIME:20240610T125508Z
URL:http://150.164.76.86:8080/cac/agenda/15247518798227248887
END:VEVENT
BEGIN:VTIMEZONE
TZID:America/Sao_Paulo
X-LIC-LOCATION:America/Sao_Paulo
BEGIN:STANDARD
DTSTART;VALUE=DATE-TIME:20240217T230000
TZNAME:BRT
TZOFFSETFROM:-0200
TZOFFSETTO:-0300
END:STANDARD
END:VTIMEZONE
END:VCALENDAR
