BEGIN:VCALENDAR
VERSION:2.0
PRODID:-//Plone.org//NONSGML plone.app.event//EN
X-WR-TIMEZONE:America/Sao_Paulo
BEGIN:VEVENT
SUMMARY:Projeto DAST Saúde do Trabalhador em [ Auditorio da Reitoria]
DTSTART;TZID=America/Sao_Paulo;VALUE=DATE-TIME:20240129T130000
DTEND;TZID=America/Sao_Paulo;VALUE=DATE-TIME:20240129T160000
DTSTAMP;VALUE=DATE-TIME:20260420T094740Z
UID:0bef8748af5c4b008c68a586d9c65a36@150.164.76.86:8080
CREATED;VALUE=DATE-TIME:20240125T125854Z
DESCRIPTION:<p>Treinamento interno DAST</p>
LAST-MODIFIED;VALUE=DATE-TIME:20240125T125909Z
URL:http://150.164.76.86:8080/cac/agenda/15235925093417462298
END:VEVENT
BEGIN:VTIMEZONE
TZID:America/Sao_Paulo
X-LIC-LOCATION:America/Sao_Paulo
BEGIN:DAYLIGHT
DTSTART;VALUE=DATE-TIME:20231015T010000
TZNAME:BRST
TZOFFSETFROM:-0300
TZOFFSETTO:-0200
END:DAYLIGHT
END:VTIMEZONE
END:VCALENDAR
