BEGIN:VCALENDAR
VERSION:2.0
PRODID:-//Plone.org//NONSGML plone.app.event//EN
X-WR-TIMEZONE:America/Sao_Paulo
BEGIN:VEVENT
SUMMARY:BANCA DE HETEROIDENTIFICAÇÃO em [ Auditório B101/102 do CAD 3 A
 uditório B107 do CAD3]
DTSTART;TZID=America/Sao_Paulo;VALUE=DATE-TIME:20241216T120000
DTEND;TZID=America/Sao_Paulo;VALUE=DATE-TIME:20241216T190000
DTSTAMP;VALUE=DATE-TIME:20260419T163544Z
UID:d3382732967846f6b980529fcc9e2e7e@150.164.76.86:8080
CREATED;VALUE=DATE-TIME:20241203T141148Z
DESCRIPTION:<p>Bancas de Heteroidentificação para processos seletivos de
  pós-graduação e concursos docentes</p>
LAST-MODIFIED;VALUE=DATE-TIME:20241203T173421Z
URL:http://150.164.76.86:8080/cac/agenda/15217425314494274489
END:VEVENT
BEGIN:VTIMEZONE
TZID:America/Sao_Paulo
X-LIC-LOCATION:America/Sao_Paulo
BEGIN:DAYLIGHT
DTSTART;VALUE=DATE-TIME:20241020T010000
TZNAME:BRST
TZOFFSETFROM:-0300
TZOFFSETTO:-0200
END:DAYLIGHT
END:VTIMEZONE
END:VCALENDAR
