BEGIN:VCALENDAR
VERSION:2.0
PRODID:-//Plone.org//NONSGML plone.app.event//EN
X-WR-TIMEZONE:America/Sao_Paulo
BEGIN:VEVENT
SUMMARY:PicadeRRÓ em [ Arena da praça de serviços]
DTSTART;TZID=America/Sao_Paulo;VALUE=DATE-TIME:20240828T173000
DTEND;TZID=America/Sao_Paulo;VALUE=DATE-TIME:20240828T190000
DTSTAMP;VALUE=DATE-TIME:20260419T222121Z
UID:06e867023ead4d71bf9d673ecd19fd39@150.164.76.86:8080
CREATED;VALUE=DATE-TIME:20240727T145401Z
DESCRIPTION:Evento de caráter cultural\, cujo objetivo é disseminar a cu
 ltura do forró para a comunidade da UFMG. Utilizamos recursos e materiais
  próprios como computador\, caixa de som e microfone.
LAST-MODIFIED;VALUE=DATE-TIME:20240729T131750Z
URL:http://150.164.76.86:8080/cac/agenda/15215576397937479561
END:VEVENT
BEGIN:VTIMEZONE
TZID:America/Sao_Paulo
X-LIC-LOCATION:America/Sao_Paulo
BEGIN:STANDARD
DTSTART;VALUE=DATE-TIME:20240217T230000
TZNAME:BRT
TZOFFSETFROM:-0200
TZOFFSETTO:-0300
END:STANDARD
END:VTIMEZONE
END:VCALENDAR
