BEGIN:VCALENDAR
VERSION:2.0
PRODID:-//Plone.org//NONSGML plone.app.event//EN
X-WR-TIMEZONE:America/Sao_Paulo
BEGIN:VEVENT
SUMMARY:Troca de Gestão - CPE em [ Auditório B106 do CAD3]
DTSTART;TZID=America/Sao_Paulo;VALUE=DATE-TIME:20230630T180000
DTEND;TZID=America/Sao_Paulo;VALUE=DATE-TIME:20230630T210000
DTSTAMP;VALUE=DATE-TIME:20260421T115805Z
UID:c58ed175167a478699dfb00bbb8b7fc0@150.164.76.86:8080
CREATED;VALUE=DATE-TIME:20230615T140459Z
DESCRIPTION:<p>Projetor e microfone. OBS: Modo aula</p>
LAST-MODIFIED;VALUE=DATE-TIME:20230615T144330Z
URL:http://150.164.76.86:8080/cac/agenda/15214883089551308896
END:VEVENT
BEGIN:VTIMEZONE
TZID:America/Sao_Paulo
X-LIC-LOCATION:America/Sao_Paulo
BEGIN:STANDARD
DTSTART;VALUE=DATE-TIME:20230225T230000
TZNAME:BRT
TZOFFSETFROM:-0200
TZOFFSETTO:-0300
END:STANDARD
END:VTIMEZONE
END:VCALENDAR
