BEGIN:VCALENDAR
VERSION:2.0
PRODID:-//Plone.org//NONSGML plone.app.event//EN
X-WR-TIMEZONE:America/Sao_Paulo
BEGIN:VEVENT
SUMMARY:Apresentação dos Programas e Eventos da DRI/UFMG - Comunidade do
  Diurno em [ Auditorio A102 do Cad 2]
DTSTART;TZID=America/Sao_Paulo;VALUE=DATE-TIME:20250318T120000
DTEND;TZID=America/Sao_Paulo;VALUE=DATE-TIME:20250318T140000
DTSTAMP;VALUE=DATE-TIME:20260419T120252Z
UID:29dbbbf3648340ae8101fae6f1d85efe@150.164.76.86:8080
CREATED;VALUE=DATE-TIME:20250224T213507Z
DESCRIPTION:Apresentação dos programas de mobilidade e eventos da DRI pa
 ra a comunidade discente de graduação\, sobretudo os estudantes do perí
 odo diurno\, \nmas aberto a toda a Comunidade discente da UFMG.
LAST-MODIFIED;VALUE=DATE-TIME:20250226T145933Z
URL:http://150.164.76.86:8080/cac/agenda/15207288243266551276
END:VEVENT
BEGIN:VTIMEZONE
TZID:America/Sao_Paulo
X-LIC-LOCATION:America/Sao_Paulo
BEGIN:STANDARD
DTSTART;VALUE=DATE-TIME:20250215T230000
TZNAME:BRT
TZOFFSETFROM:-0200
TZOFFSETTO:-0300
END:STANDARD
END:VTIMEZONE
END:VCALENDAR
