BEGIN:VCALENDAR
VERSION:2.0
PRODID:-//Plone.org//NONSGML plone.app.event//EN
X-WR-TIMEZONE:America/Sao_Paulo
BEGIN:VEVENT
SUMMARY:Eu faço IC\, e você? em [ Auditorio Nobre do CAD 1 Outros espaco
 s]
DTSTART;TZID=America/Sao_Paulo;VALUE=DATE-TIME:20230411T120000
DTEND;TZID=America/Sao_Paulo;VALUE=DATE-TIME:20230412T200000
DTSTAMP;VALUE=DATE-TIME:20260421T150015Z
UID:8d496b071ba14fa88bd381b2e0118264@150.164.76.86:8080
CREATED;VALUE=DATE-TIME:20221214T225804Z
DESCRIPTION:Dia 11 de abril de 2023 de 16h30 às 19h: abertura do evento\,
  apresentação de alunos no palco do auditório e em mesas no saguão do 
 CAD1\, seja por meio de banner\, computador ou demonstração de experimen
 to.\nDai 12 de abril de 2023 de 16h30 às 19h: apresentação de alunos no
  palco do auditório e em mesas no saguão do CAD1\, seja por meio de bann
 er\, computador ou demonstração de experimento\, encerramento do evento 
 com premiação dos melhores trabalhos.
LAST-MODIFIED;VALUE=DATE-TIME:20230104T192725Z
URL:http://150.164.76.86:8080/cac/agenda/15191731010484048327
END:VEVENT
BEGIN:VTIMEZONE
TZID:America/Sao_Paulo
X-LIC-LOCATION:America/Sao_Paulo
BEGIN:STANDARD
DTSTART;VALUE=DATE-TIME:20230225T230000
TZNAME:BRT
TZOFFSETFROM:-0200
TZOFFSETTO:-0300
END:STANDARD
END:VTIMEZONE
END:VCALENDAR
