BEGIN:VCALENDAR
VERSION:2.0
PRODID:-//Plone.org//NONSGML plone.app.event//EN
X-WR-TIMEZONE:America/Sao_Paulo
BEGIN:VEVENT
SUMMARY:Encontro sobre estrutura de gestão e organização curricular dos
  cursos de graduação de Licenciatura. em [ Auditorio da Reitoria]
DTSTART;TZID=America/Sao_Paulo;VALUE=DATE-TIME:20231117T140000
DTEND;TZID=America/Sao_Paulo;VALUE=DATE-TIME:20231117T170000
DTSTAMP;VALUE=DATE-TIME:20260420T131418Z
UID:4f8cebca2b134fd89d851896f66ec235@150.164.76.86:8080
CREATED;VALUE=DATE-TIME:20231031T142018Z
DESCRIPTION:<p>Equipamentos: Projeção\, microfone de mesa e dois microfo
 nes avulsos.</p>
LAST-MODIFIED;VALUE=DATE-TIME:20231031T144516Z
URL:http://150.164.76.86:8080/cac/agenda/15184200330716865792
END:VEVENT
BEGIN:VTIMEZONE
TZID:America/Sao_Paulo
X-LIC-LOCATION:America/Sao_Paulo
BEGIN:DAYLIGHT
DTSTART;VALUE=DATE-TIME:20231015T010000
TZNAME:BRST
TZOFFSETFROM:-0300
TZOFFSETTO:-0200
END:DAYLIGHT
END:VTIMEZONE
END:VCALENDAR
