BEGIN:VCALENDAR
VERSION:2.0
PRODID:-//Plone.org//NONSGML plone.app.event//EN
X-WR-TIMEZONE:America/Sao_Paulo
BEGIN:VEVENT
SUMMARY:Encerramento do Curso de Verão Português como Língua Adicional 
 - Uc CHile UFMG 2024 em [ Auditorio da Reitoria]
DTSTART;TZID=America/Sao_Paulo;VALUE=DATE-TIME:20240202T140000
DTEND;TZID=America/Sao_Paulo;VALUE=DATE-TIME:20240202T190000
DTSTAMP;VALUE=DATE-TIME:20260420T063242Z
UID:8ed68131dea84a8e91a177dbe3e6d0d5@150.164.76.86:8080
CREATED;VALUE=DATE-TIME:20240129T130107Z
DESCRIPTION:<p>Encerramento do Curso de Verão Português como Língua Adi
 cional - Uc CHile UFMG 2024</p>
LAST-MODIFIED;VALUE=DATE-TIME:20240131T142009Z
URL:http://150.164.76.86:8080/cac/agenda/15182596215635482704
END:VEVENT
BEGIN:VTIMEZONE
TZID:America/Sao_Paulo
X-LIC-LOCATION:America/Sao_Paulo
BEGIN:DAYLIGHT
DTSTART;VALUE=DATE-TIME:20231015T010000
TZNAME:BRST
TZOFFSETFROM:-0300
TZOFFSETTO:-0200
END:DAYLIGHT
END:VTIMEZONE
END:VCALENDAR
