BEGIN:VCALENDAR
VERSION:2.0
PRODID:-//Plone.org//NONSGML plone.app.event//EN
X-WR-TIMEZONE:America/Sao_Paulo
BEGIN:VEVENT
SUMMARY:III Workshop em Tecnologias Limpas em []
DTSTART;TZID=America/Sao_Paulo;VALUE=DATE-TIME:20200818T073000
DTEND;TZID=America/Sao_Paulo;VALUE=DATE-TIME:20200819T183000
DTSTAMP;VALUE=DATE-TIME:20260424T195733Z
UID:ae5a652d4c03465a8a2d7de74eb83e35@150.164.76.86:8080
CREATED;VALUE=DATE-TIME:20200306T025204Z
DESCRIPTION:Equipamentos de áudio e imagem\; 2 microfones.\n\nProgramaç
 ão inicial:\n\nDia 1: 18/Agosto (Terça-feira)\n\nManhã\n\n08:30 – Cre
 denciamento\n09:00 – Abertura\n09:30 – Plenária 1\n10:30 – Interval
 o\n11:00 – Plenária 2\n12:00 – Almoço\n\nTarde\n\n13:30 – Apresent
 ação Orais\n15:00 – Sessão de Pôsteres / Intervalo\n16:00 – Plená
 ria 3\n17:30 – Término\n\nDia 2: 19/Agosto (Quarta-feira)\n\nManhã\n\n
 09:00 – Plenária 4\n10:00 – Trabalhos Orais\n11:00 – Plenária 5\n1
 2:00 – Almoço\n\nTarde\n\n13:30 – Trabalhos Orais\n14:30 – Interval
 o\n15:00 – Mesa redonda\n17:30 – Encerramento
LAST-MODIFIED;VALUE=DATE-TIME:20230111T201108Z
URL:http://150.164.76.86:8080/cac/agenda/15180205455277169306
END:VEVENT
BEGIN:VTIMEZONE
TZID:America/Sao_Paulo
X-LIC-LOCATION:America/Sao_Paulo
BEGIN:STANDARD
DTSTART;VALUE=DATE-TIME:20200215T230000
TZNAME:BRT
TZOFFSETFROM:-0200
TZOFFSETTO:-0300
END:STANDARD
END:VTIMEZONE
END:VCALENDAR
