BEGIN:VCALENDAR
VERSION:2.0
PRODID:-//Plone.org//NONSGML plone.app.event//EN
X-WR-TIMEZONE:America/Sao_Paulo
BEGIN:VEVENT
SUMMARY:Colóquio Ubuntu em [ Auditorio Nobre do CAD 1]
DTSTART;TZID=America/Sao_Paulo;VALUE=DATE-TIME:20231113T060000
DTEND;TZID=America/Sao_Paulo;VALUE=DATE-TIME:20231113T210000
DTSTAMP;VALUE=DATE-TIME:20260420T132007Z
UID:b035913c0aef44aea099ea5526710a2c@150.164.76.86:8080
CREATED;VALUE=DATE-TIME:20231027T120243Z
DESCRIPTION:<p>O evento começará oficialmente a partir das 07h do dia 13
 \, tendo sua primeira palestra a partir das 8hrs. Será necessário equipa
 mento de som tal qual microfone e caixa de som\, alémde uso de tela e pro
 jetor. Para a tarde será necessária a mesma estrutura</p>
LAST-MODIFIED;VALUE=DATE-TIME:20231030T182208Z
URL:http://150.164.76.86:8080/cac/agenda/15174319654529100025
END:VEVENT
BEGIN:VTIMEZONE
TZID:America/Sao_Paulo
X-LIC-LOCATION:America/Sao_Paulo
BEGIN:DAYLIGHT
DTSTART;VALUE=DATE-TIME:20231015T010000
TZNAME:BRST
TZOFFSETFROM:-0300
TZOFFSETTO:-0200
END:DAYLIGHT
END:VTIMEZONE
END:VCALENDAR
