BEGIN:VCALENDAR
VERSION:2.0
PRODID:-//Plone.org//NONSGML plone.app.event//EN
X-WR-TIMEZONE:America/Sao_Paulo
BEGIN:VEVENT
SUMMARY:Mostra de Internacionalização da UFMG em [ Auditorio Nobre do CA
 D 1]
DTSTART;TZID=America/Sao_Paulo;VALUE=DATE-TIME:20250520T080000
DTEND;TZID=America/Sao_Paulo;VALUE=DATE-TIME:20250521T180000
DTSTAMP;VALUE=DATE-TIME:20260419T091355Z
UID:80c2e9fb73e2471c9ac039582d96726b@150.164.76.86:8080
CREATED;VALUE=DATE-TIME:20241203T140833Z
DESCRIPTION:Reserva do auditório nobre do cad 1 para realização das Pal
 estras/ Workshop de internacionalização da UFMG.
LAST-MODIFIED;VALUE=DATE-TIME:20241203T173033Z
URL:http://150.164.76.86:8080/cac/agenda/15162645168229524070
END:VEVENT
BEGIN:VTIMEZONE
TZID:America/Sao_Paulo
X-LIC-LOCATION:America/Sao_Paulo
BEGIN:STANDARD
DTSTART;VALUE=DATE-TIME:20250215T230000
TZNAME:BRT
TZOFFSETFROM:-0200
TZOFFSETTO:-0300
END:STANDARD
END:VTIMEZONE
END:VCALENDAR
