BEGIN:VCALENDAR
VERSION:2.0
PRODID:-//Plone.org//NONSGML plone.app.event//EN
X-WR-TIMEZONE:America/Sao_Paulo
BEGIN:VEVENT
SUMMARY:Quarta Doze e Trinta - Circuito Cultural UFMG  em [ Arena da praç
 a de serviços]
DTSTART;TZID=America/Sao_Paulo;VALUE=DATE-TIME:20201118T090000
DTEND;TZID=America/Sao_Paulo;VALUE=DATE-TIME:20201118T170000
DTSTAMP;VALUE=DATE-TIME:20260424T162004Z
UID:4ed3e91617b14e1dba8ffa98c6c22361@150.164.76.86:8080
CREATED;VALUE=DATE-TIME:20200214T184613Z
DESCRIPTION:Evento Quarta Doze e Trinta\, realizado pela Diretoria de Aç
 ão Cultural da UFMG. As demandas técnicas serão encaminhadas\, oportuna
 mente\, pelo setor de Produção Executiva (Rosangela\, Danielle e André 
 - 3409-6412 eventos@dac.ufmg.br).
LAST-MODIFIED;VALUE=DATE-TIME:20200217T135153Z
URL:http://150.164.76.86:8080/cac/agenda/15159838944724159670
END:VEVENT
BEGIN:VTIMEZONE
TZID:America/Sao_Paulo
X-LIC-LOCATION:America/Sao_Paulo
BEGIN:DAYLIGHT
DTSTART;VALUE=DATE-TIME:20201018T010000
TZNAME:BRST
TZOFFSETFROM:-0300
TZOFFSETTO:-0200
END:DAYLIGHT
END:VTIMEZONE
END:VCALENDAR
