BEGIN:VCALENDAR
VERSION:2.0
PRODID:-//Plone.org//NONSGML plone.app.event//EN
X-WR-TIMEZONE:America/Sao_Paulo
BEGIN:VEVENT
SUMMARY:Cine Trabalho em [ Auditorio A104 do Cad 2]
DTSTART;TZID=America/Sao_Paulo;VALUE=DATE-TIME:20230622T133000
DTEND;TZID=America/Sao_Paulo;VALUE=DATE-TIME:20230622T163000
DTSTAMP;VALUE=DATE-TIME:20260421T150014Z
UID:8450544240f248168f2d6f84d06d2f52@150.164.76.86:8080
CREATED;VALUE=DATE-TIME:20230417T135418Z
DESCRIPTION:<p>Exibição e debate de um filme. Equipamentos necessários:
  projetor multimídia\, caixa de som e computador.</p>
LAST-MODIFIED;VALUE=DATE-TIME:20230420T131613Z
URL:http://150.164.76.86:8080/cac/agenda/1510278259356732106
END:VEVENT
BEGIN:VTIMEZONE
TZID:America/Sao_Paulo
X-LIC-LOCATION:America/Sao_Paulo
BEGIN:STANDARD
DTSTART;VALUE=DATE-TIME:20230225T230000
TZNAME:BRT
TZOFFSETFROM:-0200
TZOFFSETTO:-0300
END:STANDARD
END:VTIMEZONE
END:VCALENDAR
