BEGIN:VCALENDAR
VERSION:2.0
PRODID:-//Plone.org//NONSGML plone.app.event//EN
X-WR-TIMEZONE:America/Sao_Paulo
BEGIN:VEVENT
SUMMARY:Colação de Grau Faculdade de Letras em [ Auditorio Nobre do CAD 
 1]
DTSTART;TZID=America/Sao_Paulo;VALUE=DATE-TIME:20220920T080000
DTEND;TZID=America/Sao_Paulo;VALUE=DATE-TIME:20220920T210000
DTSTAMP;VALUE=DATE-TIME:20260422T012758Z
UID:731d5b7f93f24016ac40c45a97277d46@150.164.76.86:8080
CREATED;VALUE=DATE-TIME:20220520T125326Z
DESCRIPTION:<p>Colação de grau dos alunos da FALE. Estamos solicitando d
 ois dias consecutivos devido ao número alto de formandos\, superior a 100
 \, que com os convidados de cada ultrapassa a capacidade atual do auditór
 io. Desta forma\, haverá duas cerimônias\, uma em cada dia. A reserva pr
 etendida se dá a partir das 9h pois haverá montagem de praticável (tabl
 ado) por empresa terceirizada\, custeada pelos formandos. Será preciso to
 alha na mesa\, bem como arranjo de flores. Necessitamos\, ainda\, de compu
 tador com acesso à internet ligado ao projetor multimídia. A mesa será 
 composta por cinco autoridades.</p>
LAST-MODIFIED;VALUE=DATE-TIME:20220805T185221Z
URL:http://150.164.76.86:8080/cac/agenda/15097679540768974918
END:VEVENT
BEGIN:VTIMEZONE
TZID:America/Sao_Paulo
X-LIC-LOCATION:America/Sao_Paulo
BEGIN:STANDARD
DTSTART;VALUE=DATE-TIME:20220219T230000
TZNAME:BRT
TZOFFSETFROM:-0200
TZOFFSETTO:-0300
END:STANDARD
END:VTIMEZONE
END:VCALENDAR
