BEGIN:VCALENDAR
VERSION:2.0
PRODID:-//Plone.org//NONSGML plone.app.event//EN
X-WR-TIMEZONE:America/Sao_Paulo
BEGIN:VEVENT
SUMMARY:POSSE NOVOS SERVIDORES UFMG em [ Auditorio A104 do Cad 2]
DTSTART;TZID=America/Sao_Paulo;VALUE=DATE-TIME:20230613T140000
DTEND;TZID=America/Sao_Paulo;VALUE=DATE-TIME:20230613T180000
DTSTAMP;VALUE=DATE-TIME:20260421T150024Z
UID:1cf0b972d4644fedb34b99936789528b@150.164.76.86:8080
CREATED;VALUE=DATE-TIME:20230424T180800Z
DESCRIPTION:<p>Palestra para recepção de sessenta e cinco(65) novos serv
 idores que serão empossados no dia 13 de junho de 2023 na UFMG. Necessár
 io mesa de áudio e vídeo. Será oferecido um cafezinho aos novos servido
 res. Evento será realizado das 12h às 17h.</p>
LAST-MODIFIED;VALUE=DATE-TIME:20230529T134254Z
URL:http://150.164.76.86:8080/cac/agenda/15083939164202529592
END:VEVENT
BEGIN:VTIMEZONE
TZID:America/Sao_Paulo
X-LIC-LOCATION:America/Sao_Paulo
BEGIN:STANDARD
DTSTART;VALUE=DATE-TIME:20230225T230000
TZNAME:BRT
TZOFFSETFROM:-0200
TZOFFSETTO:-0300
END:STANDARD
END:VTIMEZONE
END:VCALENDAR
