BEGIN:VCALENDAR
VERSION:2.0
PRODID:-//Plone.org//NONSGML plone.app.event//EN
X-WR-TIMEZONE:America/Sao_Paulo
BEGIN:VEVENT
SUMMARY:BANCA DE HETEROIDENTIFICAÇÃO  em [ Auditório B101/102 do CAD 3 
 Auditório B106 do CAD3 Auditório B107 do CAD3]
DTSTART;TZID=America/Sao_Paulo;VALUE=DATE-TIME:20240729T070000
DTEND;TZID=America/Sao_Paulo;VALUE=DATE-TIME:20240729T180000
DTSTAMP;VALUE=DATE-TIME:20260420T011908Z
UID:fb1d6c91ceef4905af8e7f8f6ff2cf0a@150.164.76.86:8080
CREATED;VALUE=DATE-TIME:20240611T154830Z
DESCRIPTION:<p>Registro Acadêmico</p>
LAST-MODIFIED;VALUE=DATE-TIME:20240611T195357Z
URL:http://150.164.76.86:8080/cac/agenda/15069531610923503255
END:VEVENT
BEGIN:VTIMEZONE
TZID:America/Sao_Paulo
X-LIC-LOCATION:America/Sao_Paulo
BEGIN:STANDARD
DTSTART;VALUE=DATE-TIME:20240217T230000
TZNAME:BRT
TZOFFSETFROM:-0200
TZOFFSETTO:-0300
END:STANDARD
END:VTIMEZONE
END:VCALENDAR
