BEGIN:VCALENDAR
VERSION:2.0
PRODID:-//Plone.org//NONSGML plone.app.event//EN
X-WR-TIMEZONE:America/Sao_Paulo
BEGIN:VEVENT
SUMMARY:Encontro PIBID e RP em [ Auditorio Nobre do CAD 1]
DTSTART;TZID=America/Sao_Paulo;VALUE=DATE-TIME:20230825T140000
DTEND;TZID=America/Sao_Paulo;VALUE=DATE-TIME:20230825T160000
DTSTAMP;VALUE=DATE-TIME:20260421T091006Z
UID:93b9506b68dc45c5a787237848a53d8a@150.164.76.86:8080
CREATED;VALUE=DATE-TIME:20230629T152542Z
DESCRIPTION:Encontro do PBID e RP - COMFIC UFMG. Palestra
LAST-MODIFIED;VALUE=DATE-TIME:20230630T140655Z
URL:http://150.164.76.86:8080/cac/agenda/15064632235546179202
END:VEVENT
BEGIN:VTIMEZONE
TZID:America/Sao_Paulo
X-LIC-LOCATION:America/Sao_Paulo
BEGIN:STANDARD
DTSTART;VALUE=DATE-TIME:20230225T230000
TZNAME:BRT
TZOFFSETFROM:-0200
TZOFFSETTO:-0300
END:STANDARD
END:VTIMEZONE
END:VCALENDAR
