BEGIN:VCALENDAR
VERSION:2.0
PRODID:-//Plone.org//NONSGML plone.app.event//EN
X-WR-TIMEZONE:America/Sao_Paulo
BEGIN:VEVENT
SUMMARY:Política de Comunicação da UFMG em [ Auditório B106 do CAD3]
DTSTART;TZID=America/Sao_Paulo;VALUE=DATE-TIME:20230710T080000
DTEND;TZID=America/Sao_Paulo;VALUE=DATE-TIME:20230710T130000
DTSTAMP;VALUE=DATE-TIME:20260421T122006Z
UID:28d5d0eaad464229adaa1a9a1af05ce6@150.164.76.86:8080
CREATED;VALUE=DATE-TIME:20230622T150139Z
DESCRIPTION:<p>O evento será realizado para reunião de trabalho do cedec
 om\, receberemos como convidados os assessores de comunicação das unidad
 es da UFMG. Necessitaremos de uma mesa para 2 pessoas com microfone e o ad
 icional de um microfone com pedestal disponível para intervenções do p
 úblico. Solicitamos ainda um computador na mesa com projeção para tela.
 </p>
LAST-MODIFIED;VALUE=DATE-TIME:20230705T124508Z
URL:http://150.164.76.86:8080/cac/agenda/15063543371691157509
END:VEVENT
BEGIN:VTIMEZONE
TZID:America/Sao_Paulo
X-LIC-LOCATION:America/Sao_Paulo
BEGIN:STANDARD
DTSTART;VALUE=DATE-TIME:20230225T230000
TZNAME:BRT
TZOFFSETFROM:-0200
TZOFFSETTO:-0300
END:STANDARD
END:VTIMEZONE
END:VCALENDAR
