BEGIN:VCALENDAR
VERSION:2.0
PRODID:-//Plone.org//NONSGML plone.app.event//EN
X-WR-TIMEZONE:America/Sao_Paulo
BEGIN:VEVENT
SUMMARY:Comemoração dos 10 anos de Criação das Formações Transversai
 sna UFMG: uma universidade aberta a relações coletivas\, diálogos inter
 mundos e justiça epistêmica. em [ Auditorio da Reitoria Auditorio A104 d
 o Cad 2 Outros espacos Auditorio A102 do Cad 2]
DTSTART;TZID=America/Sao_Paulo;VALUE=DATE-TIME:20241007T080000
DTEND;TZID=America/Sao_Paulo;VALUE=DATE-TIME:20241010T210000
DTSTAMP;VALUE=DATE-TIME:20260419T193108Z
UID:31a2a923ab01472eb0910c4bd4872423@150.164.76.86:8080
CREATED;VALUE=DATE-TIME:20240209T170629Z
DESCRIPTION:<p>Recursos necessários: microfones na mesa e para o público
 \, projeção e gravação Evento em comemoração dos 10 anos de Criaçã
 o das Formações Transversais na UFMG: uma universidade aberta a relaçõ
 es coletivas\, diálogos intermundos e justiça epistêmica. DATA INÍCIO:
  7 outubro de 2024. DATA TÉRMINO: 10 de outubro de 2024. 07/10/2024 Horá
 rio: 19:00 às 21:00 horas (Abertura) Atividades previstas: Cortejo\, Rito
 s e Conferência de Abertura com a presença da Reitora e dos Pró-Reitore
 s de Graduação 08/10/2024 e 09/10/2024 Horário: de 08:00 às 21:00 hora
 s Atividades previstas: Rodas de conversa\, Oficinas\, Corporalidades e Es
 téticas\, Ateliês\, Sessão de Cinema\, Exposições\, Lançamento de Li
 vro 10/10/2024 Horário: 19:00 às 21:00 horas Atividades previstas: Ritos
  e Cerimônia de Encerramento</p>
LAST-MODIFIED;VALUE=DATE-TIME:20240923T185910Z
URL:http://150.164.76.86:8080/cac/agenda/15051921993832456548
END:VEVENT
BEGIN:VTIMEZONE
TZID:America/Sao_Paulo
X-LIC-LOCATION:America/Sao_Paulo
BEGIN:STANDARD
DTSTART;VALUE=DATE-TIME:20240217T230000
TZNAME:BRT
TZOFFSETFROM:-0200
TZOFFSETTO:-0300
END:STANDARD
END:VTIMEZONE
END:VCALENDAR
