BEGIN:VCALENDAR
VERSION:2.0
PRODID:-//Plone.org//NONSGML plone.app.event//EN
X-WR-TIMEZONE:America/Sao_Paulo
BEGIN:VEVENT
SUMMARY:Reunião CEPE em [ Outros espacos]
DTSTART;TZID=America/Sao_Paulo;VALUE=DATE-TIME:20230420T140000
DTEND;TZID=America/Sao_Paulo;VALUE=DATE-TIME:20230420T160000
DTSTAMP;VALUE=DATE-TIME:20260421T152522Z
UID:ba4482edda3943428dc0e6cfece1cf6e@150.164.76.86:8080
CREATED;VALUE=DATE-TIME:20230412T200557Z
DESCRIPTION:<p><span>funcionário(s) para operar o equipamento multimídia
  da Sala das Sessões e para gravar em áudio a reunião do <b>Conselho d
 e Ensino\, Pesquisa e Extensão (CEPE)</b> a ser realizada no dia </span
 ><span><b>dia 20 de abril de 2023</b>\, <b>quinta</b><b>-feira</b>\, a p
 artir das<b> 14 (quatorze) horas</b></span><span>.</span></p>
LAST-MODIFIED;VALUE=DATE-TIME:20230414T124416Z
URL:http://150.164.76.86:8080/cac/agenda/15005567642499126029
END:VEVENT
BEGIN:VTIMEZONE
TZID:America/Sao_Paulo
X-LIC-LOCATION:America/Sao_Paulo
BEGIN:STANDARD
DTSTART;VALUE=DATE-TIME:20230225T230000
TZNAME:BRT
TZOFFSETFROM:-0200
TZOFFSETTO:-0300
END:STANDARD
END:VTIMEZONE
END:VCALENDAR
