BEGIN:VCALENDAR
VERSION:2.0
PRODID:-//Plone.org//NONSGML plone.app.event//EN
X-WR-TIMEZONE:America/Sao_Paulo
BEGIN:VEVENT
SUMMARY:FEIRA DA UFMG - Agroecologia e Economia Popular Solidária em [ En
 torno da Praca de Servicos]
DTSTART;TZID=America/Sao_Paulo;VALUE=DATE-TIME:20240611T070000
DTEND;TZID=America/Sao_Paulo;VALUE=DATE-TIME:20240611T180000
DTSTAMP;VALUE=DATE-TIME:20260420T012823Z
UID:2f355d0fe3ca43d3a7abe58a73707fc6@150.164.76.86:8080
CREATED;VALUE=DATE-TIME:20240205T172659Z
DESCRIPTION:Não usaremos nenhum equipamento ou serviço adicional.\nA pro
 gramação ainda está sendo elaborada.
LAST-MODIFIED;VALUE=DATE-TIME:20240205T191802Z
URL:http://150.164.76.86:8080/cac/agenda/15004346034281444815
END:VEVENT
BEGIN:VTIMEZONE
TZID:America/Sao_Paulo
X-LIC-LOCATION:America/Sao_Paulo
BEGIN:STANDARD
DTSTART;VALUE=DATE-TIME:20240217T230000
TZNAME:BRT
TZOFFSETFROM:-0200
TZOFFSETTO:-0300
END:STANDARD
END:VTIMEZONE
END:VCALENDAR
