BEGIN:VCALENDAR
VERSION:2.0
PRODID:-//Plone.org//NONSGML plone.app.event//EN
X-WR-TIMEZONE:America/Sao_Paulo
BEGIN:VEVENT
SUMMARY:Simpósio de Microbiologia da UFMG em [ Auditorio Nobre do CAD 1 O
 utros espacos]
DTSTART;TZID=America/Sao_Paulo;VALUE=DATE-TIME:20220927T120000
DTEND;TZID=America/Sao_Paulo;VALUE=DATE-TIME:20220929T190000
DTSTAMP;VALUE=DATE-TIME:20260422T024832Z
UID:f68896a7966d4160925cce9393ff4be6@150.164.76.86:8080
CREATED;VALUE=DATE-TIME:20220121T164026Z
DESCRIPTION:<p>O evento acontecerá de 27/09 (às 12h) até 29/09 às 19h.
  Para o evento serão necessários os equipamentos de som (microfone) e si
 stema de projeção de apresentações.</p>\n<p>Informações incluídas 0
 8/06/22 15:08: uso do hall para apresentação de pôster\, e se possível
  à época do evento\, coffee break.</p>
LAST-MODIFIED;VALUE=DATE-TIME:20220608T182209Z
URL:http://150.164.76.86:8080/cac/agenda/14997174560930256167
END:VEVENT
BEGIN:VTIMEZONE
TZID:America/Sao_Paulo
X-LIC-LOCATION:America/Sao_Paulo
BEGIN:STANDARD
DTSTART;VALUE=DATE-TIME:20220219T230000
TZNAME:BRT
TZOFFSETFROM:-0200
TZOFFSETTO:-0300
END:STANDARD
END:VTIMEZONE
END:VCALENDAR
