BEGIN:VCALENDAR
VERSION:2.0
PRODID:-//Plone.org//NONSGML plone.app.event//EN
X-WR-TIMEZONE:America/Sao_Paulo
BEGIN:VEVENT
SUMMARY:ASSEMBLEIA  - Sindicato dos Professores de Universidades Federais 
 de Belo Horizonte\, Montes Claros e Ouro Branco - APUBH em [ Auditorio A10
 2 do Cad 2]
DTSTART;TZID=America/Sao_Paulo;VALUE=DATE-TIME:20240411T090000
DTEND;TZID=America/Sao_Paulo;VALUE=DATE-TIME:20240411T160000
DTSTAMP;VALUE=DATE-TIME:20260420T044321Z
UID:6a4ad737201744d187b14aa9da02fbba@150.164.76.86:8080
CREATED;VALUE=DATE-TIME:20240404T190539Z
DESCRIPTION:Assembleia do APUBH\nData: 11/04/2024\nHorário: 09h às 16h\n
 Público: 100 pessoas
LAST-MODIFIED;VALUE=DATE-TIME:20240404T191326Z
URL:http://150.164.76.86:8080/cac/agenda/14993300774277224618
END:VEVENT
BEGIN:VTIMEZONE
TZID:America/Sao_Paulo
X-LIC-LOCATION:America/Sao_Paulo
BEGIN:STANDARD
DTSTART;VALUE=DATE-TIME:20240217T230000
TZNAME:BRT
TZOFFSETFROM:-0200
TZOFFSETTO:-0300
END:STANDARD
END:VTIMEZONE
END:VCALENDAR
