BEGIN:VCALENDAR
VERSION:2.0
PRODID:-//Plone.org//NONSGML plone.app.event//EN
X-WR-TIMEZONE:America/Sao_Paulo
BEGIN:VEVENT
SUMMARY:Primeiros passos na clínica cognitivo-comportamental com casais e
 m [ Auditorio A104 do Cad 2]
DTSTART;TZID=America/Sao_Paulo;VALUE=DATE-TIME:20231123T130000
DTEND;TZID=America/Sao_Paulo;VALUE=DATE-TIME:20231123T170000
DTSTAMP;VALUE=DATE-TIME:20260420T142922Z
UID:d56863761deb4ae1ba466fb1912be95a@150.164.76.86:8080
CREATED;VALUE=DATE-TIME:20230818T211859Z
DESCRIPTION:<p>Primeiros passos na clínica cognitivo-comportamental com c
 asais Trata-se de um Workshop aberto ao público organizado pela disciplin
 a “Primeiros passos na clínica cognitivo-comportamental” do Departame
 nto de Psicologia. A atividade será ministrada pelo prof. Dr. Bruno Cardo
 so e duas professoras externas à UFMG: prof.a. Me. Kelly Paim e prof.a. E
 sp. Ana Rizzon. No dia do evento\, será necessário os seguintes equipame
 ntos: 3 microfones\, caixa de som\, internet\, datashow\, passador de slid
 es. Programação do evento 13h-13h15: Abertura 13h15 - 15h: Primeiros pas
 sos na clínica cognitivo-comportamental com casais 15h - 15h30: Intervalo
  15h30 - 16h45: Primeiros passos na clínica cognitivo-comportamental com 
 casais 16h45 - 17h: Encerramento</p>
LAST-MODIFIED;VALUE=DATE-TIME:20230821T141124Z
URL:http://150.164.76.86:8080/cac/agenda/1499302528054016256
END:VEVENT
BEGIN:VTIMEZONE
TZID:America/Sao_Paulo
X-LIC-LOCATION:America/Sao_Paulo
BEGIN:DAYLIGHT
DTSTART;VALUE=DATE-TIME:20231015T010000
TZNAME:BRST
TZOFFSETFROM:-0300
TZOFFSETTO:-0200
END:DAYLIGHT
END:VTIMEZONE
END:VCALENDAR
