BEGIN:VCALENDAR
VERSION:2.0
PRODID:-//Plone.org//NONSGML plone.app.event//EN
X-WR-TIMEZONE:America/Sao_Paulo
BEGIN:VEVENT
SUMMARY:Inauguração HUB Inovação Merk em [ Auditorio A102 do Cad 2]
DTSTART;TZID=America/Sao_Paulo;VALUE=DATE-TIME:20230601T080000
DTEND;TZID=America/Sao_Paulo;VALUE=DATE-TIME:20230601T210000
DTSTAMP;VALUE=DATE-TIME:20260421T102951Z
UID:ed56d52e497649bfbf01eec7c06ab590@150.164.76.86:8080
CREATED;VALUE=DATE-TIME:20230419T120006Z
DESCRIPTION:<p>Há a previsão de tradução simultânea. Haverá coquetel
  após as 18h.</p>
LAST-MODIFIED;VALUE=DATE-TIME:20230420T125348Z
URL:http://150.164.76.86:8080/cac/agenda/14978123803515386373
END:VEVENT
BEGIN:VTIMEZONE
TZID:America/Sao_Paulo
X-LIC-LOCATION:America/Sao_Paulo
BEGIN:STANDARD
DTSTART;VALUE=DATE-TIME:20230225T230000
TZNAME:BRT
TZOFFSETFROM:-0200
TZOFFSETTO:-0300
END:STANDARD
END:VTIMEZONE
END:VCALENDAR
