BEGIN:VCALENDAR
VERSION:2.0
PRODID:-//Plone.org//NONSGML plone.app.event//EN
X-WR-TIMEZONE:America/Sao_Paulo
BEGIN:VEVENT
SUMMARY:Eleiçoes Assufemg. Urnas para votação na praça de serviços em
  [ Em torno da Praca de Servicos]
DTSTART;TZID=America/Sao_Paulo;VALUE=DATE-TIME:20220517T081600
DTEND;TZID=America/Sao_Paulo;VALUE=DATE-TIME:20220518T081600
DTSTAMP;VALUE=DATE-TIME:20260422T081523Z
UID:320ca36cd6ee4deeb9b32c642e3df962@150.164.76.86:8080
CREATED;VALUE=DATE-TIME:20220414T132239Z
DESCRIPTION:Serão instaladas duas mesas coletoras de votos com três cade
 iras e uma urna.\nFicarão trabalhando dois mesários durante o evento par
 a coleta dos votos\, participarão do evento os associados da Assufemg.
LAST-MODIFIED;VALUE=DATE-TIME:20220418T204019Z
URL:http://150.164.76.86:8080/cac/agenda/14974041580505354212
END:VEVENT
BEGIN:VTIMEZONE
TZID:America/Sao_Paulo
X-LIC-LOCATION:America/Sao_Paulo
BEGIN:STANDARD
DTSTART;VALUE=DATE-TIME:20220219T230000
TZNAME:BRT
TZOFFSETFROM:-0200
TZOFFSETTO:-0300
END:STANDARD
END:VTIMEZONE
END:VCALENDAR
