BEGIN:VCALENDAR
VERSION:2.0
PRODID:-//Plone.org//NONSGML plone.app.event//EN
X-WR-TIMEZONE:America/Sao_Paulo
BEGIN:VEVENT
SUMMARY:Festival América Barroca em [ Outros espacos]
DTSTART;TZID=America/Sao_Paulo;VALUE=DATE-TIME:20231117T183000
DTEND;TZID=America/Sao_Paulo;VALUE=DATE-TIME:20231117T203000
DTSTAMP;VALUE=DATE-TIME:20260420T131510Z
UID:84c53b64bbc64434877776784fd9c215@150.164.76.86:8080
CREATED;VALUE=DATE-TIME:20231101T195906Z
DESCRIPTION:<p><span><span><span>Festival América Barroca com <span><span
 ><span>maestro Luis Chumpitazi (Peru)</span></span></span><br /></span></s
 pan></span></p>
LAST-MODIFIED;VALUE=DATE-TIME:20231101T200321Z
URL:http://150.164.76.86:8080/cac/agenda/14968503348186187988
END:VEVENT
BEGIN:VTIMEZONE
TZID:America/Sao_Paulo
X-LIC-LOCATION:America/Sao_Paulo
BEGIN:DAYLIGHT
DTSTART;VALUE=DATE-TIME:20231015T010000
TZNAME:BRST
TZOFFSETFROM:-0300
TZOFFSETTO:-0200
END:DAYLIGHT
END:VTIMEZONE
END:VCALENDAR
