BEGIN:VCALENDAR
VERSION:2.0
PRODID:-//Plone.org//NONSGML plone.app.event//EN
X-WR-TIMEZONE:America/Sao_Paulo
BEGIN:VEVENT
SUMMARY:Bloqueio para teste audio/vídeo EBA em [ Auditorio A104 do Cad 2]
DTSTART;TZID=America/Sao_Paulo;VALUE=DATE-TIME:20230919T170000
DTEND;TZID=America/Sao_Paulo;VALUE=DATE-TIME:20230919T190000
DTSTAMP;VALUE=DATE-TIME:20260421T062259Z
UID:94fbea2226234d3aa88e4089e17c5b10@150.164.76.86:8080
CREATED;VALUE=DATE-TIME:20230912T160451Z
DESCRIPTION:<p>Agendado teste de vídeo e áudio.Estarão presentes para o
  teste prévio:</p>\n<div>A aluna Lohuama\, integrante da organização da
  Semana CAAD.</div>\n<div>Cláudio Constantino\, produtor executivo da Pó
 len Filmes.</div>
LAST-MODIFIED;VALUE=DATE-TIME:20230912T160511Z
URL:http://150.164.76.86:8080/cac/agenda/14961931352818611361
END:VEVENT
BEGIN:VTIMEZONE
TZID:America/Sao_Paulo
X-LIC-LOCATION:America/Sao_Paulo
BEGIN:STANDARD
DTSTART;VALUE=DATE-TIME:20230225T230000
TZNAME:BRT
TZOFFSETFROM:-0200
TZOFFSETTO:-0300
END:STANDARD
END:VTIMEZONE
END:VCALENDAR
