BEGIN:VCALENDAR
VERSION:2.0
PRODID:-//Plone.org//NONSGML plone.app.event//EN
X-WR-TIMEZONE:America/Sao_Paulo
BEGIN:VEVENT
SUMMARY:Reunião pais e alunos ingressantes Coltec 2022 em [ Auditorio Nob
 re do CAD 1]
DTSTART;TZID=America/Sao_Paulo;VALUE=DATE-TIME:20220411T190000
DTEND;TZID=America/Sao_Paulo;VALUE=DATE-TIME:20220411T210000
DTSTAMP;VALUE=DATE-TIME:20260422T094046Z
UID:98b26eed1974463db5dfeaca514266ad@150.164.76.86:8080
CREATED;VALUE=DATE-TIME:20220331T174634Z
DESCRIPTION:<p>equipamentos: 01 microfone mesa 02 microfones público 01 n
 otebook 01 tela projeção 01 mesa com dois lugares Programação: - Abert
 ura: Direção Aspectos administrativos e pedagógicos do Coltec - 30 minu
 tos - Apresentação setores: 10 minutos cada Nuped/SEAP/Coordenadores cur
 sos - Apresentação FUMP - Assistência Estudantil - 30 minutos - Pergunt
 as e respostas - 30 minutos</p>
LAST-MODIFIED;VALUE=DATE-TIME:20220405T153026Z
URL:http://150.164.76.86:8080/cac/agenda/1494897335048620588
END:VEVENT
BEGIN:VTIMEZONE
TZID:America/Sao_Paulo
X-LIC-LOCATION:America/Sao_Paulo
BEGIN:STANDARD
DTSTART;VALUE=DATE-TIME:20220219T230000
TZNAME:BRT
TZOFFSETFROM:-0200
TZOFFSETTO:-0300
END:STANDARD
END:VTIMEZONE
END:VCALENDAR
