BEGIN:VCALENDAR
VERSION:2.0
PRODID:-//Plone.org//NONSGML plone.app.event//EN
X-WR-TIMEZONE:America/Sao_Paulo
BEGIN:VEVENT
SUMMARY:Academia Brasileira de Ciências em [ Auditório B101/102 do CAD 3
 ]
DTSTART;TZID=America/Sao_Paulo;VALUE=DATE-TIME:20230913T080000
DTEND;TZID=America/Sao_Paulo;VALUE=DATE-TIME:20230913T200000
DTSTAMP;VALUE=DATE-TIME:20260421T091108Z
UID:5a076eac76f84a84b0c595c96ce299f9@150.164.76.86:8080
CREATED;VALUE=DATE-TIME:20230607T191447Z
DESCRIPTION:Apresentação de pesquisa de jovens cientistas.\n\nEvento: Mo
 do Aula\nNecessitamos de Projetor\, microfone.
LAST-MODIFIED;VALUE=DATE-TIME:20230612T134131Z
URL:http://150.164.76.86:8080/cac/agenda/14947896598655031018
END:VEVENT
BEGIN:VTIMEZONE
TZID:America/Sao_Paulo
X-LIC-LOCATION:America/Sao_Paulo
BEGIN:STANDARD
DTSTART;VALUE=DATE-TIME:20230225T230000
TZNAME:BRT
TZOFFSETFROM:-0200
TZOFFSETTO:-0300
END:STANDARD
END:VTIMEZONE
END:VCALENDAR
