BEGIN:VCALENDAR
VERSION:2.0
PRODID:-//Plone.org//NONSGML plone.app.event//EN
X-WR-TIMEZONE:America/Sao_Paulo
BEGIN:VEVENT
SUMMARY:Seminário do curso Formação Continuada para Profissionais da Ed
 ucação Básica na Perspectiva da Educação Integral em Tempo Integral d
 o Programa Escola em Tempo Integral - MEC/UFMG/ Minas Gerais em [ Auditór
 io B101/102 do CAD 3 (102 s/ ar condic) Auditório B106 do CAD3 Auditório
  B107 do CAD3]
DTSTART;TZID=America/Sao_Paulo;VALUE=DATE-TIME:20250522T140000
DTEND;TZID=America/Sao_Paulo;VALUE=DATE-TIME:20250522T170000
DTSTAMP;VALUE=DATE-TIME:20260419T091427Z
UID:8243956b2ed141f2acac974ca2843175@150.164.76.86:8080
CREATED;VALUE=DATE-TIME:20250506T174649Z
DESCRIPTION:<p>O curso ETI-MG integra o Programa do Ministério da Educaç
 ão\, instituído pela Lei nº 14.640\, de 31 de julho de 2023\, que tem p
 or objetivo fomentar a criação de matrículas em tempo integral na educa
 ção básica. A formação continuada dos profissionais da educação é 
 um dos pilares fundamentais desse Programa. O curso é realizado em parcer
 ia com as Universidades Federais de Goiás (UFG)\, Bahia (UFBA)\, Pará (U
 FPA)\, Minas Gerais (UFMG) e Fronteira Sul (UFFS). Dentro da programação
  do curso\, está previsto um evento presencial em formato de seminário\,
  que contará com a participação de cerca de 600 profissionais\, entre s
 ecretários e técnicos das secretarias municipais e estaduais de educaç
 ão.</p>
LAST-MODIFIED;VALUE=DATE-TIME:20250515T130441Z
URL:http://150.164.76.86:8080/cac/agenda/14928938867938920156
END:VEVENT
BEGIN:VTIMEZONE
TZID:America/Sao_Paulo
X-LIC-LOCATION:America/Sao_Paulo
BEGIN:STANDARD
DTSTART;VALUE=DATE-TIME:20250215T230000
TZNAME:BRT
TZOFFSETFROM:-0200
TZOFFSETTO:-0300
END:STANDARD
END:VTIMEZONE
END:VCALENDAR
