BEGIN:VCALENDAR
VERSION:2.0
PRODID:-//Plone.org//NONSGML plone.app.event//EN
X-WR-TIMEZONE:America/Sao_Paulo
BEGIN:VEVENT
SUMMARY:Educação e Ciência em Risco:  Essencialidade da Ciência para 
 a Educação Básica em [ Outros espacos]
DTSTART;TZID=America/Sao_Paulo;VALUE=DATE-TIME:20220621T180000
DTEND;TZID=America/Sao_Paulo;VALUE=DATE-TIME:20220621T200000
DTSTAMP;VALUE=DATE-TIME:20260422T081435Z
UID:59530de12af44fb19aaf653779f03105@150.164.76.86:8080
CREATED;VALUE=DATE-TIME:20220615T173133Z
DESCRIPTION:<p>PAINEL:  Educação e Ciência em Risco:  Essencialidade 
 da Ciência para a Educação Básica Mediadora: Profa. Viviane S. Alves -
  Diretora de Divulgação Científica - PROEX - UFMG   Participantes: Pr
 ofa. Ana Cristina Ribeiro Vaz -- Programa UFMG Jovem Conhecimento para tod
 os Profa. Cleida Aparecida de Oliveira - Mestrado Profissional em Ensino d
 e Biologia - PROFBIO Profa. Nilma Soares da Silva - Comissão de Formaçã
 o Inicial e Continuada de Professores da Educação Básica - COMFIC Profa
 . Rúbia Santos Fonseca -  Rede de Museus e Espaços de Ciências e Cultu
 ra da UFMG Profa. Santer Alvares de Matos - Feira Brasileira de Colégios 
 de Aplicação e Escolas Técnicas - Febrat Data : 21 de junho de 2022 Hor
 ario:  18 às 20h  Local: Canal do Youtube da PROEX - UFMG</p>
LAST-MODIFIED;VALUE=DATE-TIME:20220621T144957Z
URL:http://150.164.76.86:8080/cac/agenda/14919369615722551222
END:VEVENT
BEGIN:VTIMEZONE
TZID:America/Sao_Paulo
X-LIC-LOCATION:America/Sao_Paulo
BEGIN:STANDARD
DTSTART;VALUE=DATE-TIME:20220219T230000
TZNAME:BRT
TZOFFSETFROM:-0200
TZOFFSETTO:-0300
END:STANDARD
END:VTIMEZONE
END:VCALENDAR
