BEGIN:VCALENDAR
VERSION:2.0
PRODID:-//Plone.org//NONSGML plone.app.event//EN
X-WR-TIMEZONE:America/Sao_Paulo
BEGIN:VEVENT
SUMMARY:Cerimônia de Comemoração dos 10 anos da criação da Pró-Reito
 ria de Assuntos Estudantis em [ Auditorio da Reitoria]
DTSTART;TZID=America/Sao_Paulo;VALUE=DATE-TIME:20241118T140000
DTEND;TZID=America/Sao_Paulo;VALUE=DATE-TIME:20241118T180000
DTSTAMP;VALUE=DATE-TIME:20260419T175500Z
UID:40892729ece94cdb9f508a530499ecf1@150.164.76.86:8080
CREATED;VALUE=DATE-TIME:20240924T184916Z
DESCRIPTION:<p>Solenidade de comemoração de 10 anos da criação da Pró
 -Reitoria de Assuntos Estudantis. Evento com a participação da Reitora e
  do Vice-Reitor.</p>
LAST-MODIFIED;VALUE=DATE-TIME:20241111T185719Z
URL:http://150.164.76.86:8080/cac/agenda/14909284555324268812
END:VEVENT
BEGIN:VTIMEZONE
TZID:America/Sao_Paulo
X-LIC-LOCATION:America/Sao_Paulo
BEGIN:DAYLIGHT
DTSTART;VALUE=DATE-TIME:20241020T010000
TZNAME:BRST
TZOFFSETFROM:-0300
TZOFFSETTO:-0200
END:DAYLIGHT
END:VTIMEZONE
END:VCALENDAR
