BEGIN:VCALENDAR
VERSION:2.0
PRODID:-//Plone.org//NONSGML plone.app.event//EN
X-WR-TIMEZONE:America/Sao_Paulo
BEGIN:VEVENT
SUMMARY:Recepção de calouros em [ Auditório B107 do CAD3 - s/ ar condic
 ionado]
DTSTART;TZID=America/Sao_Paulo;VALUE=DATE-TIME:20250310T070000
DTEND;TZID=America/Sao_Paulo;VALUE=DATE-TIME:20250310T130000
DTSTAMP;VALUE=DATE-TIME:20260419T103337Z
UID:ab329db69ffc4d96a92cacb57adf26b5@150.164.76.86:8080
CREATED;VALUE=DATE-TIME:20250214T154029Z
DESCRIPTION:<p>Recepção de calouros</p>
LAST-MODIFIED;VALUE=DATE-TIME:20250226T131207Z
URL:http://150.164.76.86:8080/cac/agenda/14906684086300923446
END:VEVENT
BEGIN:VTIMEZONE
TZID:America/Sao_Paulo
X-LIC-LOCATION:America/Sao_Paulo
BEGIN:STANDARD
DTSTART;VALUE=DATE-TIME:20250215T230000
TZNAME:BRT
TZOFFSETFROM:-0200
TZOFFSETTO:-0300
END:STANDARD
END:VTIMEZONE
END:VCALENDAR
