BEGIN:VCALENDAR
VERSION:2.0
PRODID:-//Plone.org//NONSGML plone.app.event//EN
X-WR-TIMEZONE:America/Sao_Paulo
BEGIN:VEVENT
SUMMARY:Recital de Formatura do bacharelado da Música Popular - TCC em [ 
 Auditório B101/102 do CAD 3]
DTSTART;TZID=America/Sao_Paulo;VALUE=DATE-TIME:20240821T080000
DTEND;TZID=America/Sao_Paulo;VALUE=DATE-TIME:20240821T220000
DTSTAMP;VALUE=DATE-TIME:20260419T235006Z
UID:1023bd36dc214945808a8fe42526adcb@150.164.76.86:8080
CREATED;VALUE=DATE-TIME:20240717T232424Z
DESCRIPTION:<p>O Evento se trata de duas provas de TCC do Bacharelado da M
 úsica Popular\, dos Alunos Rodrigo Caixeta e Alexandre Moreira\, orientad
 os pelo Professor Cleber Alves. As provam serão dois recitais de um médi
 a de 50 minutos cada. Quanto as necessidades técnicas: Precisaremos de au
 xilio para energia e iluminação do auditório principalmente no palco. H
 averá necessidade de montagem de equipamento de som e filmagem sendo que 
 os dois alunos se comprometem em levar os equipamento e também a equipe q
 ue irá fazer o manuseio do mesmo. O horário solicitado na reserva englob
 a todo o tempo de montagem e realização das apresentações\, que será 
 aberta a toda comunidade acadêmica\, com divulgação por meio da Escola 
 de Música da UFMG. Agradeço antecipadamente\, Att. Prof. Cléber Alves</
 p>
LAST-MODIFIED;VALUE=DATE-TIME:20240808T170504Z
URL:http://150.164.76.86:8080/cac/agenda/14888900500216208408
END:VEVENT
BEGIN:VTIMEZONE
TZID:America/Sao_Paulo
X-LIC-LOCATION:America/Sao_Paulo
BEGIN:STANDARD
DTSTART;VALUE=DATE-TIME:20240217T230000
TZNAME:BRT
TZOFFSETFROM:-0200
TZOFFSETTO:-0300
END:STANDARD
END:VTIMEZONE
END:VCALENDAR
